BEGIN:VCALENDAR
VERSION:2.0
PRODID:icalendar-ruby
CALSCALE:GREGORIAN
METHOD:PUBLISH
BEGIN:VEVENT
DTSTAMP:20260424T231118Z
UID:128-1242355@fcucc.org
DTSTART:20260426T154500Z
DTEND:20260426T164500Z
CLASS:PUBLIC
CREATED:20260423T112842
DESCRIPTION:All are welcome to watch and listen to an Interview with Rev. D
 r. Serene Jones\, with FCUCC Lead Minister\, Rev. Lee Ann Bryce. 
LAST-MODIFIED:20260423T112842
LOCATION:Sanctuary
SUMMARY:Interview with Rev. Dr. Serene Jones
URL;VALUE=URI:https://www.fcucc.org/events/interview-with-rev-dr-serene-jon
 es/2026-04-26
ATTACH;FILENAME=INTERVIEW.png;FMTTYPE=image/png:https://dq5pwpg1q8ru0.cloud
 front.net/2026/04/23/17/28/14/5f338afc-ab54-4968-9034-4492798fe20e/INTERVI
 EW.png
END:VEVENT
END:VCALENDAR
